BEGIN:VCALENDAR
VERSION:2.0
PRODID:-// - ECPv6.15.11//NONSGML v1.0//EN
CALSCALE:GREGORIAN
METHOD:PUBLISH
X-ORIGINAL-URL:https://tk-noehagen.at
X-WR-CALDESC:Veranstaltungen für 
REFRESH-INTERVAL;VALUE=DURATION:PT1H
X-Robots-Tag:noindex
X-PUBLISHED-TTL:PT1H
BEGIN:VTIMEZONE
TZID:UTC
BEGIN:STANDARD
TZOFFSETFROM:+0000
TZOFFSETTO:+0000
TZNAME:UTC
DTSTART:20250101T000000
END:STANDARD
END:VTIMEZONE
BEGIN:VEVENT
DTSTART;TZID=UTC:20260712T100000
DTEND;TZID=UTC:20260712T140000
DTSTAMP:20260419T143401
CREATED:20260220T061003Z
LAST-MODIFIED:20260220T061003Z
UID:573-1783850400-1783864800@tk-noehagen.at
SUMMARY:Frühschoppen FF Weinzierl
DESCRIPTION:
URL:https://tk-noehagen.at/event/fruehschoppen-ff-weinzierl-2/
END:VEVENT
BEGIN:VEVENT
DTSTART;TZID=UTC:20260718T180000
DTEND;TZID=UTC:20260718T230000
DTSTAMP:20260419T143401
CREATED:20260220T061216Z
LAST-MODIFIED:20260220T061216Z
UID:577-1784397600-1784415600@tk-noehagen.at
SUMMARY:Dämmerschoppen FF Groß Heinrichschlag
DESCRIPTION:
URL:https://tk-noehagen.at/event/daemmerschoppen-ff-gross-heinrichschlag/
END:VEVENT
END:VCALENDAR