BEGIN:VCALENDAR
VERSION:2.0
PRODID:-// - ECPv6.15.11//NONSGML v1.0//EN
CALSCALE:GREGORIAN
METHOD:PUBLISH
X-ORIGINAL-URL:https://tk-noehagen.at
X-WR-CALDESC:Veranstaltungen für 
REFRESH-INTERVAL;VALUE=DURATION:PT1H
X-Robots-Tag:noindex
X-PUBLISHED-TTL:PT1H
BEGIN:VTIMEZONE
TZID:UTC
BEGIN:STANDARD
TZOFFSETFROM:+0000
TZOFFSETTO:+0000
TZNAME:UTC
DTSTART:20250101T000000
END:STANDARD
END:VTIMEZONE
BEGIN:VEVENT
DTSTART;TZID=UTC:20260426T080000
DTEND;TZID=UTC:20260426T120000
DTSTAMP:20260420T100951
CREATED:20260401T191126Z
LAST-MODIFIED:20260401T191126Z
UID:591-1777190400-1777204800@tk-noehagen.at
SUMMARY:Erstkommunion St. Johann
DESCRIPTION:
URL:https://tk-noehagen.at/event/erstkommunion-st-johann/
END:VEVENT
BEGIN:VEVENT
DTSTART;TZID=UTC:20260503T080000
DTEND;TZID=UTC:20260503T120000
DTSTAMP:20260420T100951
CREATED:20260401T191219Z
LAST-MODIFIED:20260401T191820Z
UID:593-1777795200-1777809600@tk-noehagen.at
SUMMARY:Floriani-Messe in Großheinrichschlag
DESCRIPTION:
URL:https://tk-noehagen.at/event/floriani/
END:VEVENT
BEGIN:VEVENT
DTSTART;TZID=UTC:20260525T140000
DTEND;TZID=UTC:20260525T170000
DTSTAMP:20260420T100951
CREATED:20260220T060904Z
LAST-MODIFIED:20260220T060904Z
UID:571-1779717600-1779728400@tk-noehagen.at
SUMMARY:Kirtag Els
DESCRIPTION:
URL:https://tk-noehagen.at/event/kirtag-els/
END:VEVENT
BEGIN:VEVENT
DTSTART;VALUE=DATE:20260604
DTEND;VALUE=DATE:20260605
DTSTAMP:20260420T100951
CREATED:20260220T061420Z
LAST-MODIFIED:20260401T191025Z
UID:581-1780531200-1780617599@tk-noehagen.at
SUMMARY:Tag der Blasmusik Weinzierl
DESCRIPTION:
URL:https://tk-noehagen.at/event/fronleichnam-tag-der-blasmusik-weinzierl/
END:VEVENT
BEGIN:VEVENT
DTSTART;VALUE=DATE:20260607
DTEND;VALUE=DATE:20260608
DTSTAMP:20260420T100951
CREATED:20260220T061441Z
LAST-MODIFIED:20260401T190909Z
UID:583-1780790400-1780876799@tk-noehagen.at
SUMMARY:Fronleichnam Weinzierl
DESCRIPTION:
URL:https://tk-noehagen.at/event/fronleichnam-tag-der-blasmusik-weinzierl-2/
END:VEVENT
BEGIN:VEVENT
DTSTART;VALUE=DATE:20260627
DTEND;VALUE=DATE:20260629
DTSTAMP:20260420T100951
CREATED:20250820T165250Z
LAST-MODIFIED:20250820T165250Z
UID:490-1782518400-1782691199@tk-noehagen.at
SUMMARY:Bezirksblasmusikfest mit Marschmusikbewertung
DESCRIPTION:
URL:https://tk-noehagen.at/event/bezirksblasmusikfest-mit-marschmusikbewertung/
LOCATION:Nöhagen
END:VEVENT
BEGIN:VEVENT
DTSTART;VALUE=DATE:20260627
DTEND;VALUE=DATE:20260629
DTSTAMP:20260420T100951
CREATED:20260220T061118Z
LAST-MODIFIED:20260220T061118Z
UID:575-1782518400-1782691199@tk-noehagen.at
SUMMARY:Bezirksmusikfest 75-Jahre-Jubiliäm TK Nöhagen
DESCRIPTION:
URL:https://tk-noehagen.at/event/bezirksmusikfest-75-jahre-jubiliaem-tk-noehagen/
LOCATION:VAZ Nöhagen
END:VEVENT
BEGIN:VEVENT
DTSTART;TZID=UTC:20260712T100000
DTEND;TZID=UTC:20260712T140000
DTSTAMP:20260420T100951
CREATED:20260220T061003Z
LAST-MODIFIED:20260220T061003Z
UID:573-1783850400-1783864800@tk-noehagen.at
SUMMARY:Frühschoppen FF Weinzierl
DESCRIPTION:
URL:https://tk-noehagen.at/event/fruehschoppen-ff-weinzierl-2/
END:VEVENT
BEGIN:VEVENT
DTSTART;TZID=UTC:20260718T180000
DTEND;TZID=UTC:20260718T230000
DTSTAMP:20260420T100951
CREATED:20260220T061216Z
LAST-MODIFIED:20260220T061216Z
UID:577-1784397600-1784415600@tk-noehagen.at
SUMMARY:Dämmerschoppen FF Groß Heinrichschlag
DESCRIPTION:
URL:https://tk-noehagen.at/event/daemmerschoppen-ff-gross-heinrichschlag/
END:VEVENT
BEGIN:VEVENT
DTSTART;TZID=UTC:20261024T180000
DTEND;TZID=UTC:20261024T235900
DTSTAMP:20260420T100951
CREATED:20260220T061308Z
LAST-MODIFIED:20260220T061308Z
UID:579-1792864800-1792886340@tk-noehagen.at
SUMMARY:Oktoberfestkonzert
DESCRIPTION:
URL:https://tk-noehagen.at/event/oktoberfestkonzert/
LOCATION:VAZ Nöhagen
END:VEVENT
END:VCALENDAR