BEGIN:VCALENDAR
VERSION:2.0
PRODID:-// - ECPv6.15.11//NONSGML v1.0//EN
CALSCALE:GREGORIAN
METHOD:PUBLISH
X-ORIGINAL-URL:https://tk-noehagen.at
X-WR-CALDESC:Veranstaltungen für 
REFRESH-INTERVAL;VALUE=DURATION:PT1H
X-Robots-Tag:noindex
X-PUBLISHED-TTL:PT1H
BEGIN:VTIMEZONE
TZID:UTC
BEGIN:STANDARD
TZOFFSETFROM:+0000
TZOFFSETTO:+0000
TZNAME:UTC
DTSTART:20240101T000000
END:STANDARD
END:VTIMEZONE
BEGIN:VEVENT
DTSTART;VALUE=DATE:20250712
DTEND;VALUE=DATE:20250713
DTSTAMP:20260420T181400
CREATED:20250223T200910Z
LAST-MODIFIED:20250223T200910Z
UID:287-1752278400-1752364799@tk-noehagen.at
SUMMARY:Dämmerschoppen FF Gr. Heinrichschlag
DESCRIPTION:
URL:https://tk-noehagen.at/event/daemmerschoppen-ff-gr-heinrichschlag/
END:VEVENT
END:VCALENDAR